BEGIN:VCALENDAR
VERSION:2.0
PRODID:-//HRCC - ECPv6.0.11//NONSGML v1.0//EN
CALSCALE:GREGORIAN
METHOD:PUBLISH
X-WR-CALNAME:HRCC
X-ORIGINAL-URL:https://hrcc.org.au
X-WR-CALDESC:Events for HRCC
REFRESH-INTERVAL;VALUE=DURATION:PT1H
X-Robots-Tag:noindex
X-PUBLISHED-TTL:PT1H
BEGIN:VTIMEZONE
TZID:Australia/Brisbane
BEGIN:STANDARD
TZOFFSETFROM:+1000
TZOFFSETTO:+1000
TZNAME:AEST
DTSTART:20230101T000000
END:STANDARD
END:VTIMEZONE
BEGIN:VEVENT
DTSTART;VALUE=DATE:20230714
DTEND;VALUE=DATE:20230717
DTSTAMP:20260425T124043
CREATED:20230620T234812Z
LAST-MODIFIED:20230626T025918Z
UID:2446-1689292800-1689551999@hrcc.org.au
SUMMARY:Shannons Historic Racing & Classic Car Festival Entries Now Open!
DESCRIPTION:It has been sixteen years since HRCC has run a race meeting at Queensland Raceway and now with a Motorsport Australia permitted track we couldn’t resist the opportunity to try out the new facilities so make sure to tell your friends. \nInvitation to Shannons Historic Racing & Classic Car Festival promoted and organised by Historic Racing Car Club (Qld) Inc. https://hrcc.org.au/ \n14th to 16th July 2023 at Queensland Raceway\, 133 Champions Way\, Willowbank Qld. https://www.qldraceways.com.au/#/ \nEntries are now open online at www.motorsport.org.au/login \nThe event is open to all Historic 5th Category race cars and invited cars offering Circuit Racing\, Super Sprints (Historic Sports Sedans only) and Regularity Trials all as noted in the Supplementary Regulations. \nThis is a 3 day weekend Event. \nPractice is on Friday 14 July from 8-30am to 12.00pm and can be prepaid with entry. \nQualifying is on Friday 14 July from 1.00pm to 4.30pm \nRacing\, Super Sprints & Regularity Trials is on Saturday & Sunday times to be advised. \nGeneral Admission tickets for Spectators: Friday – Free\, Saturday – $20\, Sunday – $30\, Weekend Pass – $40\, Kids under 15 years – Free. \nShannons Show & Shine on Sunday: Entry is $20 per car with driver and up to 3 passengers. \nClick here to purchase tickets online. \nCategories: Heritage Touring Cars Group A & C\, Historic Touring Cars Group N\, Historic Sports Sedans Group U\, Historic Production Sports Cars Group S & T\, Historic Sports & Racing Groups K\, L\, M & O\, Historic Sports & Racing Groups Q & R\, Historic Formula Ford Group F\, Historic Formula Vee Group V\, Regularity Trial Cars. \nBook your accommodation early! \nThe below Scrutiny forms and Disclaimer to be returned to the Event Secretary via email. Please bring the original printed forms to the event to hand to the Scrutineers. \nSelf-Scrutiny Statement of Vehicle Compliance \nSelf-Scrutiny Checklist Race (for Circuit Racing) \nSelf-Scrutiny Checklist Speed (for Regularity or Super Sprints) \nDisclaimer for Competitors & Pit Crew \nEntries close Friday 30 June 2023. All payments must be received by the 7 July 2023.                                  \nLate entries must contact the Event Secretary\, before going online to enter as the Event Entry Online may not be open. \nNO ENTRY TO QUEENSLAND RACEWAY PRIOR TO 1.30PM THURSDAY 13 JULY 2023.\nCarport and Garage Hire:  Can be hired online with your entry\, through Motorsport Australia Online Entry. \nCarports on Pit Lane > 29 off – 9.6 x 5.0m\, No Power. $170. \nGarages in 2 tin sheds > 44 off – 8.0 x 4.0m. Power available. $235. \n(If you and another competitor hire a Garage each = total of 2 and request them in line East to West the area would be 16.0m x 4.0m maybe enough room for 3 small to medium cars with front & rear entry.)  It is up to the hirer to establish what will fit. \nNOTE: Parking for tender vehicle and trailers may be some distance from the Carports and Garages. \nThe first 50% booked will be allocated in order of entering. The final 50% of Carport & Garages\, preference will be given to low and slick tyre\, open wheel and sports racing cars\, also maybe a nominated Race Group/s. \nThis will not apply to late entries or payment after the 30 June 2023. \nAll trailers to be parked outside in the carpark beside the eastern fence line. If the trailer is a necessary\, part of the Pit equipment then you will need an oversize Pit Bay or parking area. \nTender vehicles will be issued with a parking sticker\, all other vehicles to be parked in the outside carpark. \nPaddock Pit Area will be marked out to standard Pit Area 10m x 5m. If you need more area than this\, you MUST contact 0424 321 072. Discuss your needs and a Pit Bay will be allocate to you. Refer Supplementary Regulations Clause 26 a to j. \nMyLaps is the timing system used. Transponders are to be hired from Qld Raceways $30. \nIf you have a MyLaps Transponder\, supply the transponder serial number with your entry.           \nFuel: TBA \nFire Extinguisher: Competitor must provide at least 1 certified and fully functional 4.5kg fire extinguisher in each of their Pit Garage or paddock area Pit Bay. \nHRCC Banking Details: Westpac BSB 034 001\, Acct 229 793. Reference use your online ID No. or surname. \nMeet & Greet: will be held on Friday 14 July from 5.00pm to 7.30pm. All Entrants\, Pit crew and interstate competitors plus Motorsport Australia Officials and Marshalls are invited to the Corporate Room at Queensland Raceway. Cash bar with hot platters served from 5.20pm. \nGREAT Raffles\, GREAT Nibbles and GREAT company including our Club Patron Kev Bartlett. \nContacts: For all items relating to Motorsport Australia and on track contact the Event Secretary of the Meeting\, Mark Stockwell mark@4orceracing.com.au  or text anytime or ring after 4.00pm 0414 407 490. \nHRCC Admin contact John Tupicoff  john.tupicoff@gmail.com  0408 197 344. \nYours faithfully from the Race Committee \nClaude Ciccotelli HRCC Race Chairman
URL:https://hrcc.org.au/event/shannons-historic-racing-classic-car-festival-entries-now-open/
LOCATION:Queensland Raceway\, 133 Champions Way\, Willowbank\, Qld\, 4306\, Australia
CATEGORIES:HRCC,Race Meeting
ATTACH;FMTTYPE=image/jpeg:https://hrcc.org.au/wp-content/uploads/2023/05/Shannons-Historic-Racing-Festival-July-Header.jpg
ORGANIZER;CN="John%20Tupicoff":MAILTO:john.tupicoff@gmail.com
END:VEVENT
END:VCALENDAR