BEGIN:VCALENDAR
VERSION:2.0
PRODID:-//HRCC - ECPv6.0.11//NONSGML v1.0//EN
CALSCALE:GREGORIAN
METHOD:PUBLISH
X-WR-CALNAME:HRCC
X-ORIGINAL-URL:https://hrcc.org.au
X-WR-CALDESC:Events for HRCC
REFRESH-INTERVAL;VALUE=DURATION:PT1H
X-Robots-Tag:noindex
X-PUBLISHED-TTL:PT1H
BEGIN:VTIMEZONE
TZID:Australia/Brisbane
BEGIN:STANDARD
TZOFFSETFROM:+1000
TZOFFSETTO:+1000
TZNAME:AEST
DTSTART:20240101T000000
END:STANDARD
END:VTIMEZONE
BEGIN:VEVENT
DTSTART;VALUE=DATE:20241125
DTEND;VALUE=DATE:20241126
DTSTAMP:20260422T031954
CREATED:20240722T003748Z
LAST-MODIFIED:20241023T013116Z
UID:3090-1732492800-1732579199@hrcc.org.au
SUMMARY:2024 HRCC AGM
DESCRIPTION:HRCCQ Inc Election of Office Bearers for 2025 and appointment of an Auditor for 2025 \nIn accordance with the Associations Incorporation Act and the HRCCQ Inc Constitution\, HRCCQ Inc will elect Office Bearers for 2025 at the forthcoming AGM. \nI have been appointed to conduct an election for the following 2025 Office Bearers: \nPresident \n                        Vice President \n                        Secretary \n                        Treasurer \n                        Committee Members x 4 \nand the appointment of an Auditor for 2025 \nNominations for Office Bearers are invited from Members who wish to serve on the 2025 HRCCQ Inc Management Committee. \nNominees must meet the criteria stated in Rules 14\,15 and 17 of the HRCCQ Inc Constitution. \nNominations for Office Bearers must be lodged using the official nomination form; the nomination form is available for download from the HRCCQ Inc website\, or alternatively\, can be requested from the HRCCQ Inc secretary. \nTwo financial Members of HRCCQ Inc.\, eligible to vote at the election\, must sign the nomination. \nNominations will not be accepted unless and until they do comply. \nThe time for receiving nominations will end at 11.59pm\, Thursday 26th September 2024. \nMilton Brennan \nHRCCQ Inc Returning Officer \nassisting \nBradley Manz\, HRCCQ Inc Secretary
URL:https://hrcc.org.au/event/2024-hrcc-agm/
LOCATION:VCCA Clubrooms\, 1376 Old Cleveland Rd\, Carindale\, Qld\, Australia
CATEGORIES:HRCC
ATTACH;FMTTYPE=image/jpeg:https://hrcc.org.au/wp-content/uploads/2024/07/AGM-LOGO-2024.jpg
END:VEVENT
END:VCALENDAR