BEGIN:VCALENDAR
VERSION:2.0
PRODID:-//HRCC - ECPv6.0.11//NONSGML v1.0//EN
CALSCALE:GREGORIAN
METHOD:PUBLISH
X-WR-CALNAME:HRCC
X-ORIGINAL-URL:https://hrcc.org.au
X-WR-CALDESC:Events for HRCC
REFRESH-INTERVAL;VALUE=DURATION:PT1H
X-Robots-Tag:noindex
X-PUBLISHED-TTL:PT1H
BEGIN:VTIMEZONE
TZID:Australia/Brisbane
BEGIN:STANDARD
TZOFFSETFROM:+1000
TZOFFSETTO:+1000
TZNAME:AEST
DTSTART:20230101T000000
END:STANDARD
END:VTIMEZONE
BEGIN:VEVENT
DTSTART;TZID=Australia/Brisbane:20231202T110000
DTEND;TZID=Australia/Brisbane:20231202T170000
DTSTAMP:20260425T064041
CREATED:20230801T021025Z
LAST-MODIFIED:20230804T005553Z
UID:2532-1701514800-1701536400@hrcc.org.au
SUMMARY:Christmas Party & Awards Presentation
DESCRIPTION:Two course meal of main and dessert will be served. \nPlease advise of any special dietary requirements when booking \nComplimentary beer\, wine & soft drinks until the bar limit is reached\, after which a cash bar will be available. \nRSVP: 18 November 2023 \nBooking essential \nCheques/Money Order payable to Historic Racing Car Club (Qld) Inc\, PO Box 353\, Red Hill Qld 4059 \nEFT payment to HRCC: Westpac\, BSB 034-001\, Account number 229793\, Reference: ‘CTD plus your Surname’ \nCredit Card Payment made by phone \nContact Jim Goulden 0400 525 865 \nEmail jim@jandwgoudlen.com
URL:https://hrcc.org.au/event/christmas-party-awards-presentation/
LOCATION:Cloudland\, 641 Ann Street\, Fortitude Valley\, Qld\, 4006\, Australia
CATEGORIES:HRCC
ATTACH;FMTTYPE=image/jpeg:https://hrcc.org.au/wp-content/uploads/2023/08/Chrismas-Party-Save-the-Date.jpg
ORGANIZER;CN="Jim%20Goulden":MAILTO:jim@jandwgoulden.com
END:VEVENT
END:VCALENDAR