BEGIN:VCALENDAR
VERSION:2.0
PRODID:-//HRCC - ECPv6.0.11//NONSGML v1.0//EN
CALSCALE:GREGORIAN
METHOD:PUBLISH
X-ORIGINAL-URL:https://hrcc.org.au
X-WR-CALDESC:Events for HRCC
REFRESH-INTERVAL;VALUE=DURATION:PT1H
X-Robots-Tag:noindex
X-PUBLISHED-TTL:PT1H
BEGIN:VTIMEZONE
TZID:Australia/Brisbane
BEGIN:STANDARD
TZOFFSETFROM:+1000
TZOFFSETTO:+1000
TZNAME:AEST
DTSTART:20250101T000000
END:STANDARD
END:VTIMEZONE
BEGIN:VEVENT
DTSTART;VALUE=DATE:20250509
DTEND;VALUE=DATE:20250512
DTSTAMP:20260421T195014
CREATED:20241023T012349Z
LAST-MODIFIED:20250315T210210Z
UID:3235-1746748800-1747007999@hrcc.org.au
SUMMARY:Autumn Classic Speedfest
DESCRIPTION:HRCC’s Traditional Autumn Historic and Classic motor racing weekend promoted and organised by HRCC. \nThe event is open to all Historic 5th Category race cars plus invited\, classic and modern cars. \nSprint events and Timed Trials (Regularity) will be offered to non-logbooked classic and modern vehicles. \nEntry will be through the Motorsport Australia event entry system online until 28 April 2025. \nMake sure you book your accommodation early so you don’t miss out. \nGo to the HRCC Facebook page to keep up with all the latest news.
URL:https://hrcc.org.au/event/autumn-historic-warwick-2/
LOCATION:Morgan Park Raceway – Warwick Qld\, 228 Old Stanthorpe Rd\, Morgan Park\, QLD\, 4370\, Australia
CATEGORIES:HRCC,Race Meeting
ATTACH;FMTTYPE=image/jpeg:https://hrcc.org.au/wp-content/uploads/2025/01/ACS25-Flyer-A4-fb-scaled.jpg
END:VEVENT
END:VCALENDAR