BEGIN:VCALENDAR
VERSION:2.0
PRODID:-//HRCC - ECPv6.0.11//NONSGML v1.0//EN
CALSCALE:GREGORIAN
METHOD:PUBLISH
X-ORIGINAL-URL:https://hrcc.org.au
X-WR-CALDESC:Events for HRCC
REFRESH-INTERVAL;VALUE=DURATION:PT1H
X-Robots-Tag:noindex
X-PUBLISHED-TTL:PT1H
BEGIN:VTIMEZONE
TZID:Australia/Brisbane
BEGIN:STANDARD
TZOFFSETFROM:+1000
TZOFFSETTO:+1000
TZNAME:AEST
DTSTART:20260101T000000
END:STANDARD
END:VTIMEZONE
BEGIN:VEVENT
DTSTART;VALUE=DATE:20260703
DTEND;VALUE=DATE:20260706
DTSTAMP:20260425T234050
CREATED:20251212T054344Z
LAST-MODIFIED:20260425T061449Z
UID:3766-1783036800-1783295999@hrcc.org.au
SUMMARY:Classic Qld
DESCRIPTION:Note:  The CLASSIC QLD 2026 Event Entry portal will now Open 1 week later\, on Monday 27th April 2026. \nThe HRCC is using a new combined entry portal. \nThis new portal will be easier to use and will not require any logon details.   This portal will be used for all Motorcycle track\, Car track and Display entrants. \nAll entries information will be provided at that time. \nThanks for your patience and we look forward to receiving all your entries. \nIt’s going to be an epic motorsport weekend. \n——————————————————————————————— \n  \nThe event will open to the following and all entrants can lodge through the single event portal: \n\nCars – Historic 5th Category race cars\, plus classic\, invited and modern cars offering Circuit Racing\, Super Sprints and Timed Trials (Regularity).\nMotorcycles- Period 2-6 motorcycles (and invited)\nVehicle Display – All cars and Motorcycles\n\n  \nMake sure you book your accommodation early so you don’t miss out. \n 
URL:https://hrcc.org.au/event/classic-qld/
LOCATION:Queensland Raceway\, 133 Champions Way\, Willowbank\, Qld\, 4306\, Australia
CATEGORIES:Car race meeting,HRCC,Motorcycle track meeting,Race Meeting,Social,Vehicle Display
ATTACH;FMTTYPE=image/jpeg:https://hrcc.org.au/wp-content/uploads/2025/12/CQ26-Save-the-Date-Notice-A5-landscape.jpg
ORGANIZER;CN="Alan%20Steel":MAILTO:trackcraft1@bigpond.com
END:VEVENT
BEGIN:VEVENT
DTSTART;VALUE=DATE:20260905
DTEND;VALUE=DATE:20260906
DTSTAMP:20260425T234050
CREATED:20251212T054728Z
LAST-MODIFIED:20251212T054728Z
UID:3768-1788566400-1788652799@hrcc.org.au
SUMMARY:HRCC Invited Super Sprints & Timed Trials
DESCRIPTION:The event is open to all Historic 5th Category race cars plus invited\, classic and modern cars. \nSprint events and Timed Trials (Regularity) will be offered to non-logbooked classic and modern vehicles. \nEntry will be through the Motorsport Australia online event entry system when entries open. \nMake sure you book your accommodation early so you don’t miss out. \nGo to the HRCC Facebook page to keep up with all the latest news.
URL:https://hrcc.org.au/event/hrcc-invited-super-sprints-timed-trials/
LOCATION:Queensland Raceway\, 133 Champions Way\, Willowbank\, Qld\, 4306\, Australia
CATEGORIES:HRCC,Race Meeting
ATTACH;FMTTYPE=image/jpeg:https://hrcc.org.au/wp-content/uploads/2022/05/hrcc-default-featured-image.jpg
ORGANIZER;CN="Alan%20Steel":MAILTO:trackcraft1@bigpond.com
END:VEVENT
END:VCALENDAR