BEGIN:VCALENDAR
VERSION:2.0
PRODID:-//HRCC - ECPv6.0.11//NONSGML v1.0//EN
CALSCALE:GREGORIAN
METHOD:PUBLISH
X-WR-CALNAME:HRCC
X-ORIGINAL-URL:https://hrcc.org.au
X-WR-CALDESC:Events for HRCC
REFRESH-INTERVAL;VALUE=DURATION:PT1H
X-Robots-Tag:noindex
X-PUBLISHED-TTL:PT1H
BEGIN:VTIMEZONE
TZID:Australia/Brisbane
BEGIN:STANDARD
TZOFFSETFROM:+1000
TZOFFSETTO:+1000
TZNAME:AEST
DTSTART:20230101T000000
END:STANDARD
END:VTIMEZONE
BEGIN:VEVENT
DTSTART;VALUE=DATE:20260214
DTEND;VALUE=DATE:20260216
DTSTAMP:20260422T214212
CREATED:20251212T053656Z
LAST-MODIFIED:20251212T053906Z
UID:3758-1771027200-1771199999@hrcc.org.au
SUMMARY:HRCC TTT Practice\, Super Sprints & Timed Trials (Regularity)
DESCRIPTION:Invitation to HRCC TTT \nPractice\, Super Sprints and Timed Trials (Regularity)\nFebruary 14th-15th 2026 \n@ Qld Raceway – Willowbank \nEntries are now open online at https://portal.motorsport.org.au/octozy/login\nDear HRCC members\, friends and past event participants\, \nHRCC’s traditional TTT style weekend is now open to all Historic 5th Category race cars PLUS ALL invited cars\, offering practice\, passenger rides\, Super Sprints and Timed Trials (Regularity) all as noted in the Supplementary Regulations.  The event Supplementary Regulations are available in the Event Entry Portal. \nThis is the club’s\, traditional\, relaxed weekend start to the year.  It is an opportunity to get your cars on track for some early practice and fast laps before the year begins in earnest. \n** Invited cars include Classic\, late model/modern and other non-logbooked cars into the Timed Trials (Regularity) and Invited Sprint groups. If you need to chat\, feel free to contact (prior to lodging your entry) the Secretary of the Event. Contact details are below. \nEntry cost notes: \n\n  A discount has been applied for 2-day entry.\n To avoid the 1.5% credit card surcharge now applied by Motorsport Australia\, we suggest you pay by direct deposit to the HRCC bank account.\n MSA also now apply a 1.5% administration fee to the portal entry process. All such charged are to be paid by entrants.\n\nSaturday 14th February – practice for all groups\, plus passenger ride sessions.  If you have wanted to take a friend or family member for a drive\, this will be a great time to get on track.\nSunday 15th February – Super Sprints for all 5th Category and invited cars.  Timed Trials (Regularity) will follow the usual timed laps process. \nTransponders will be available for Sunday hire\, direct from QR on the weekend. Payment to be made direct to them. \n Carport hire:  Can be done online with your online entry. Carports are reserved on ‘first booked’ basis. Occasionally\, some allocation may need to be reserved for some open wheel\, sports racing or other cars with clearance issues. \nIt is important to read Supp Regs Clause 25 a to k. \nEntries will close\, Friday 30th January 2026.  \nLate entries and event queries can contact the Event Secretary after 5pm – Benn Gregory (0418 746 673); benngregory1@gmail.com. \nWarm Regards \nHRCC Management Committee
URL:https://hrcc.org.au/event/hrcc-ttt-practice-super-sprints-timed-trials-regularity/
LOCATION:Queensland Raceway\, 133 Champions Way\, Willowbank\, Qld\, 4306\, Australia
CATEGORIES:HRCC,Race Meeting
ATTACH;FMTTYPE=image/jpeg:https://hrcc.org.au/wp-content/uploads/2025/12/TTT-Day26-A4-Flyer-scaled.jpg
ORGANIZER;CN="Benn%20Gregory":MAILTO:benngregory1@gmail.com
END:VEVENT
BEGIN:VEVENT
DTSTART;VALUE=DATE:20251017
DTEND;VALUE=DATE:20251020
DTSTAMP:20260422T214212
CREATED:20241210T235613Z
LAST-MODIFIED:20250729T031110Z
UID:3300-1760659200-1760918399@hrcc.org.au
SUMMARY:Spring Classic Speedfest
DESCRIPTION:Open to all 5th Category Historic race group cars.\nSupersprints for Sports Sedans (plus Group U) and invited cars.\nTimed Trials (Regularity) open to non-logbooked classic and modern\, including street registered cars.\nSpectator gates open 8am – For this race meeting the HRCC are extending FREE SPECTATOR ENTRY to everyone. \nEntry will be through the Motorsport Australia online event entry system when entries open. \nMake sure you book your accommodation early so you don’t miss out. \nGo to the HRCC Facebook page to keep up with all the latest news. \n  \n 
URL:https://hrcc.org.au/event/summer-historics/
LOCATION:Morgan Park Raceway – Warwick Qld\, 228 Old Stanthorpe Rd\, Morgan Park\, QLD\, 4370\, Australia
CATEGORIES:HRCC,Race Meeting
ATTACH;FMTTYPE=image/jpeg:https://hrcc.org.au/wp-content/uploads/2025/07/Spring-Classic-Speedfest-Flyer-A4-website-scaled.jpg
END:VEVENT
BEGIN:VEVENT
DTSTART;VALUE=DATE:20250704
DTEND;VALUE=DATE:20250707
DTSTAMP:20260422T214212
CREATED:20241220T082105Z
LAST-MODIFIED:20250523T030329Z
UID:3329-1751587200-1751846399@hrcc.org.au
SUMMARY:Classic Qld
DESCRIPTION:Entries are now open! \nEntry is through the Motorsport Australia online event entry system. \nThe event is open to all Historic 5th Category race cars\, classic and modern cars plus motorcycles offering Circuit Racing\, Super Sprints and Timed Trials (Regularity). \nMake sure you book your accommodation early so you don’t miss out. \nGo to the HRCC Facebook page to keep up with all the latest news.
URL:https://hrcc.org.au/event/winter-historics/
LOCATION:Queensland Raceway\, 133 Champions Way\, Willowbank\, Qld\, 4306\, Australia
CATEGORIES:HRCC,Race Meeting
ATTACH;FMTTYPE=image/jpeg:https://hrcc.org.au/wp-content/uploads/2024/12/Classic-Qld-July25-Flyer-A4-page-1-1-scaled.jpg
END:VEVENT
BEGIN:VEVENT
DTSTART;VALUE=DATE:20250509
DTEND;VALUE=DATE:20250512
DTSTAMP:20260422T214212
CREATED:20241023T012349Z
LAST-MODIFIED:20250315T210210Z
UID:3235-1746748800-1747007999@hrcc.org.au
SUMMARY:Autumn Classic Speedfest
DESCRIPTION:HRCC’s Traditional Autumn Historic and Classic motor racing weekend promoted and organised by HRCC. \nThe event is open to all Historic 5th Category race cars plus invited\, classic and modern cars. \nSprint events and Timed Trials (Regularity) will be offered to non-logbooked classic and modern vehicles. \nEntry will be through the Motorsport Australia event entry system online until 28 April 2025. \nMake sure you book your accommodation early so you don’t miss out. \nGo to the HRCC Facebook page to keep up with all the latest news.
URL:https://hrcc.org.au/event/autumn-historic-warwick-2/
LOCATION:Morgan Park Raceway – Warwick Qld\, 228 Old Stanthorpe Rd\, Morgan Park\, QLD\, 4370\, Australia
CATEGORIES:HRCC,Race Meeting
ATTACH;FMTTYPE=image/jpeg:https://hrcc.org.au/wp-content/uploads/2025/01/ACS25-Flyer-A4-fb-scaled.jpg
END:VEVENT
BEGIN:VEVENT
DTSTART;VALUE=DATE:20241018
DTEND;VALUE=DATE:20241021
DTSTAMP:20260422T214212
CREATED:20231018T023745Z
LAST-MODIFIED:20240618T041948Z
UID:2667-1729209600-1729468799@hrcc.org.au
SUMMARY:Historic Queensland
DESCRIPTION:The event is open to all Historic 5th Category race cars and invited cars offering Circuit Racing\, Super Sprints and Regularity Trials. \nMake sure you book your accommodation early! \nGo to the HRCC Facebook page to keep up with all the latest news.
URL:https://hrcc.org.au/event/historic-queensland/
LOCATION:Morgan Park Raceway – Warwick Qld\, 228 Old Stanthorpe Rd\, Morgan Park\, QLD\, 4370\, Australia
CATEGORIES:HRCC,Race Meeting
ATTACH;FMTTYPE=image/jpeg:https://hrcc.org.au/wp-content/uploads/2024/02/HQ24-Flyer-A4-1-scaled.jpg
END:VEVENT
BEGIN:VEVENT
DTSTART;VALUE=DATE:20240705
DTEND;VALUE=DATE:20240708
DTSTAMP:20260422T214212
CREATED:20231018T023847Z
LAST-MODIFIED:20240607T075446Z
UID:2669-1720137600-1720396799@hrcc.org.au
SUMMARY:Shannons Motorsport Festival - CANCELLED
DESCRIPTION:Entries are now open! Enter through the Motorsport Australia online entry system at https://motorsport.org.au/ \nCelebrating 60 years of Mustang! \nThis event is open to Modern and Historic cars. \nSchedule \nFriday – Practice \nSaturday – Qualifying and Racing until 10pm includes Inter Club Challenge Sprints\, Parage Laps and Special Demo Laps. \nSunday – Racing \nCamping available at the track. \nGo to the HRCC Facebook page to keep up with all the latest news. \n 
URL:https://hrcc.org.au/event/spring-historic/
LOCATION:Queensland Raceway\, 133 Champions Way\, Willowbank\, Qld\, 4306\, Australia
CATEGORIES:HRCC,Race Meeting
ATTACH;FMTTYPE=image/jpeg:https://hrcc.org.au/wp-content/uploads/2023/10/Shannons24-HRCC-Motorsport-Festival-flyer-A4-FINAL-PRINT-REVISED-scaled.jpg
END:VEVENT
BEGIN:VEVENT
DTSTART;VALUE=DATE:20240427
DTEND;VALUE=DATE:20240429
DTSTAMP:20260422T214212
CREATED:20231018T023642Z
LAST-MODIFIED:20240426T043835Z
UID:2662-1714176000-1714348799@hrcc.org.au
SUMMARY:Autumn Historic Warwick
DESCRIPTION:The event is open to all Historic 5th Category race cars and invited cars offering Circuit Racing\, Super Sprints and Regularity Trials. \nClick here to enter through the Motorsport Australia online portal. \nMake sure you book your accommodation now so you don’t miss out.
URL:https://hrcc.org.au/event/autumn-historic-warwick/
LOCATION:Morgan Park Raceway – Warwick Qld\, 228 Old Stanthorpe Rd\, Morgan Park\, QLD\, 4370\, Australia
CATEGORIES:HRCC,Race Meeting
ATTACH;FMTTYPE=image/jpeg:https://hrcc.org.au/wp-content/uploads/2024/01/AHW24-Flyer-A4-1-scaled.jpg
END:VEVENT
BEGIN:VEVENT
DTSTART;VALUE=DATE:20230714
DTEND;VALUE=DATE:20230717
DTSTAMP:20260422T214212
CREATED:20230620T234812Z
LAST-MODIFIED:20230626T025918Z
UID:2446-1689292800-1689551999@hrcc.org.au
SUMMARY:Shannons Historic Racing & Classic Car Festival Entries Now Open!
DESCRIPTION:It has been sixteen years since HRCC has run a race meeting at Queensland Raceway and now with a Motorsport Australia permitted track we couldn’t resist the opportunity to try out the new facilities so make sure to tell your friends. \nInvitation to Shannons Historic Racing & Classic Car Festival promoted and organised by Historic Racing Car Club (Qld) Inc. https://hrcc.org.au/ \n14th to 16th July 2023 at Queensland Raceway\, 133 Champions Way\, Willowbank Qld. https://www.qldraceways.com.au/#/ \nEntries are now open online at www.motorsport.org.au/login \nThe event is open to all Historic 5th Category race cars and invited cars offering Circuit Racing\, Super Sprints (Historic Sports Sedans only) and Regularity Trials all as noted in the Supplementary Regulations. \nThis is a 3 day weekend Event. \nPractice is on Friday 14 July from 8-30am to 12.00pm and can be prepaid with entry. \nQualifying is on Friday 14 July from 1.00pm to 4.30pm \nRacing\, Super Sprints & Regularity Trials is on Saturday & Sunday times to be advised. \nGeneral Admission tickets for Spectators: Friday – Free\, Saturday – $20\, Sunday – $30\, Weekend Pass – $40\, Kids under 15 years – Free. \nShannons Show & Shine on Sunday: Entry is $20 per car with driver and up to 3 passengers. \nClick here to purchase tickets online. \nCategories: Heritage Touring Cars Group A & C\, Historic Touring Cars Group N\, Historic Sports Sedans Group U\, Historic Production Sports Cars Group S & T\, Historic Sports & Racing Groups K\, L\, M & O\, Historic Sports & Racing Groups Q & R\, Historic Formula Ford Group F\, Historic Formula Vee Group V\, Regularity Trial Cars. \nBook your accommodation early! \nThe below Scrutiny forms and Disclaimer to be returned to the Event Secretary via email. Please bring the original printed forms to the event to hand to the Scrutineers. \nSelf-Scrutiny Statement of Vehicle Compliance \nSelf-Scrutiny Checklist Race (for Circuit Racing) \nSelf-Scrutiny Checklist Speed (for Regularity or Super Sprints) \nDisclaimer for Competitors & Pit Crew \nEntries close Friday 30 June 2023. All payments must be received by the 7 July 2023.                                  \nLate entries must contact the Event Secretary\, before going online to enter as the Event Entry Online may not be open. \nNO ENTRY TO QUEENSLAND RACEWAY PRIOR TO 1.30PM THURSDAY 13 JULY 2023.\nCarport and Garage Hire:  Can be hired online with your entry\, through Motorsport Australia Online Entry. \nCarports on Pit Lane > 29 off – 9.6 x 5.0m\, No Power. $170. \nGarages in 2 tin sheds > 44 off – 8.0 x 4.0m. Power available. $235. \n(If you and another competitor hire a Garage each = total of 2 and request them in line East to West the area would be 16.0m x 4.0m maybe enough room for 3 small to medium cars with front & rear entry.)  It is up to the hirer to establish what will fit. \nNOTE: Parking for tender vehicle and trailers may be some distance from the Carports and Garages. \nThe first 50% booked will be allocated in order of entering. The final 50% of Carport & Garages\, preference will be given to low and slick tyre\, open wheel and sports racing cars\, also maybe a nominated Race Group/s. \nThis will not apply to late entries or payment after the 30 June 2023. \nAll trailers to be parked outside in the carpark beside the eastern fence line. If the trailer is a necessary\, part of the Pit equipment then you will need an oversize Pit Bay or parking area. \nTender vehicles will be issued with a parking sticker\, all other vehicles to be parked in the outside carpark. \nPaddock Pit Area will be marked out to standard Pit Area 10m x 5m. If you need more area than this\, you MUST contact 0424 321 072. Discuss your needs and a Pit Bay will be allocate to you. Refer Supplementary Regulations Clause 26 a to j. \nMyLaps is the timing system used. Transponders are to be hired from Qld Raceways $30. \nIf you have a MyLaps Transponder\, supply the transponder serial number with your entry.           \nFuel: TBA \nFire Extinguisher: Competitor must provide at least 1 certified and fully functional 4.5kg fire extinguisher in each of their Pit Garage or paddock area Pit Bay. \nHRCC Banking Details: Westpac BSB 034 001\, Acct 229 793. Reference use your online ID No. or surname. \nMeet & Greet: will be held on Friday 14 July from 5.00pm to 7.30pm. All Entrants\, Pit crew and interstate competitors plus Motorsport Australia Officials and Marshalls are invited to the Corporate Room at Queensland Raceway. Cash bar with hot platters served from 5.20pm. \nGREAT Raffles\, GREAT Nibbles and GREAT company including our Club Patron Kev Bartlett. \nContacts: For all items relating to Motorsport Australia and on track contact the Event Secretary of the Meeting\, Mark Stockwell mark@4orceracing.com.au  or text anytime or ring after 4.00pm 0414 407 490. \nHRCC Admin contact John Tupicoff  john.tupicoff@gmail.com  0408 197 344. \nYours faithfully from the Race Committee \nClaude Ciccotelli HRCC Race Chairman
URL:https://hrcc.org.au/event/shannons-historic-racing-classic-car-festival-entries-now-open/
LOCATION:Queensland Raceway\, 133 Champions Way\, Willowbank\, Qld\, 4306\, Australia
CATEGORIES:HRCC,Race Meeting
ATTACH;FMTTYPE=image/jpeg:https://hrcc.org.au/wp-content/uploads/2023/05/Shannons-Historic-Racing-Festival-July-Header.jpg
ORGANIZER;CN="John%20Tupicoff":MAILTO:john.tupicoff@gmail.com
END:VEVENT
BEGIN:VEVENT
DTSTART;TZID=Australia/Brisbane:20230512T083000
DTEND;TZID=Australia/Brisbane:20230514T163000
DTSTAMP:20260422T214212
CREATED:20230503T062200Z
LAST-MODIFIED:20230503T062200Z
UID:2365-1683880200-1684081800@hrcc.org.au
SUMMARY:Autumn Historic Warwick 2023 Entry Now Open
DESCRIPTION:Invitation to Autumn Historic Warwick Race Meeting \n12–14 May 2023 at Morgan Park Raceway\, Warwick Qld. \nEntries are now open online at www.motorsport.org.au/login \nThe event is opened to all Historic 5th Category race cars and invited cars offering Circuit Racing\, Super Sprints (Historic Sports Sedans only) and Regularity Trials all as noted in the Supplementary Regulations. \nYou may also go online through www.hrcc.org.au. \nPractice is on Friday 12 May from 8-30am to 4-30pm and can be prepaid with entry. \nQualifying/Official Practice for Regularity starts Saturday till approximately midday followed by Racing\, Super Sprint and Regularity Trails for the remainder of the weekend. \nBook your accommodation early! \nSupplementary Regulations are available here\, please read them carefully. \nThe below Scrutiny forms to be returned to the Event Secretary via email. Please bring the original printed forms to the event to hand to the Scrutineers. \nSelf-Scrutiny Statement of Vehicle Compliance \nSelf-Scrutiny Checklist Race \nNO ENTRY TO THE PRECINCT OF MORGAN PARK RACEWAY PRIOR TO 1:30PM THURSDAY 11 MAY.\nMyLaps is the timing system used. Transponder hire is included with your entry. Please note that a $100 refundable deposit is required on receipt of Transponder. \nIf you have a MyLaps transponder you can apply while entering for a $30 refund in EXTRAS (Optional) section and enter the transponder serial number with your entry. \nCarport hire can be done online with your entry through the Motorsport Australia Online Event Entry System. Carport preference is given to open wheel and sports racing cars\, also may be nominated Race Groups. This will not apply to late entries or late payment\, cut off 26th April 2023. \nPaddock Pit Area is marked with standard Pit Areas size 12m x 5m. If you need more area than this you MUST contact Greg Dalliston 0424 321 072\, he will discuss your needs and allocate an area. Important to read Supplementary Regulations Clause 25a to 25k. \nFire Extinguisher – Garage/Paddock\nCompetitor must provide at least 1 certified and fully functioning 4.5kg fire extinguisher compliant with the local legislation in each of their Automobile’s Pit Garage or designated paddock area. \nEntries will close Wednesday 26 April 2023. Late entries to contact the Event Secretary. \nThere will be NO fuel available at the circuit. \nContacts: For all items relating to Motorsport Australia and on track contact the Event Secretary of the Meeting\, Mark Stockwell mark@4orceracing.com.au  or text anytime or ring after 5.00pm 0414 407 490. \nHRCC Admin contact John Tupicoff  john.tupicoff@gmail.com  0408 197 344. \nYours faithfully from the Race Committee \nClaude Ciccotelli  HRCC Race Chairman
URL:https://hrcc.org.au/event/autumn-historic-warwick-2023-entry-now-open/
LOCATION:Morgan Park Raceway – Warwick Qld\, 228 Old Stanthorpe Rd\, Morgan Park\, QLD\, 4370\, Australia
CATEGORIES:Race Meeting
ATTACH;FMTTYPE=image/jpeg:https://hrcc.org.au/wp-content/uploads/2022/05/hrcc-default-featured-image.jpg
ORGANIZER;CN="John%20Tupicoff":MAILTO:john.tupicoff@gmail.com
END:VEVENT
END:VCALENDAR