BEGIN:VCALENDAR
VERSION:2.0
PRODID:-//HRCC - ECPv6.0.11//NONSGML v1.0//EN
CALSCALE:GREGORIAN
METHOD:PUBLISH
X-ORIGINAL-URL:https://hrcc.org.au
X-WR-CALDESC:Events for HRCC
REFRESH-INTERVAL;VALUE=DURATION:PT1H
X-Robots-Tag:noindex
X-PUBLISHED-TTL:PT1H
BEGIN:VTIMEZONE
TZID:Australia/Brisbane
BEGIN:STANDARD
TZOFFSETFROM:+1000
TZOFFSETTO:+1000
TZNAME:AEST
DTSTART:20240101T000000
END:STANDARD
END:VTIMEZONE
BEGIN:VEVENT
DTSTART;TZID=Australia/Brisbane:20251101T180000
DTEND;TZID=Australia/Brisbane:20251101T233000
DTSTAMP:20260421T190539
CREATED:20250916T042734Z
LAST-MODIFIED:20250916T042734Z
UID:3703-1762020000-1762039800@hrcc.org.au
SUMMARY:2025 HRCC Club Champion Awards & Christmas Party
DESCRIPTION:Come along and take part in celebrating the achievements of the HRCC 2025 Club Champions and Volunteers of the Year. \nVenue: Black Bird\, Riverside Centre\, 123 Eagle St\, Brisbane City. \nCost: $50 per Person \nFood & Drinks: Canapes served on arrival. Two course meal of main and dessert will be served. Please advise of any special dietary requirements when booking. Complimentary beer\, wine & soft drinks until the bar limit is reached\, after which a cash bar will be available. \nRSVP: 18 October 2025 – Booking is essential as there are limited seats available. \nArrive: 6.00pm for 6.30pm start. \nParking: $9.00 onsite parking. \nCONTACT: Alan Steel 0421 319 950  trackcraft1@bigpond.com \n 
URL:https://hrcc.org.au/event/2025-hrcc-club-champion-awards-christmas-party/
LOCATION:Black Bird\, 123 Eagle St\, Brisbane\, Qld\, 4000\, Australia
CATEGORIES:Social
ATTACH;FMTTYPE=image/jpeg:https://hrcc.org.au/wp-content/uploads/2025/09/Christmas-Party-Invite-A4-SOCIALS-scaled.jpg
ORGANIZER;CN="Alan%20Steel":MAILTO:trackcraft1@bigpond.com
END:VEVENT
BEGIN:VEVENT
DTSTART;TZID=Australia/Brisbane:20250922T190000
DTEND;TZID=Australia/Brisbane:20250922T210000
DTSTAMP:20260421T190539
CREATED:20241226T001213Z
LAST-MODIFIED:20250516T065036Z
UID:3354-1758567600-1758574800@hrcc.org.au
SUMMARY:Members Brissie BBQ
DESCRIPTION:A social get together for all HRCC Members.
URL:https://hrcc.org.au/event/members-brissie-bbq-4/
LOCATION:VCCA Clubrooms\, 1376 Old Cleveland Rd\, Carindale\, Qld\, Australia
CATEGORIES:HRCC,Social
ATTACH;FMTTYPE=image/jpeg:https://hrcc.org.au/wp-content/uploads/2024/12/Social-events-flyer-2.jpg
END:VEVENT
BEGIN:VEVENT
DTSTART;TZID=Australia/Brisbane:20250623T190000
DTEND;TZID=Australia/Brisbane:20250623T210000
DTSTAMP:20260421T190539
CREATED:20241226T000859Z
LAST-MODIFIED:20250516T064830Z
UID:3352-1750705200-1750712400@hrcc.org.au
SUMMARY:Members Brissie BBQ
DESCRIPTION:A social get together for all HRCC Members.
URL:https://hrcc.org.au/event/members-brissie-bbq-3/
LOCATION:VCCA Clubrooms\, 1376 Old Cleveland Rd\, Carindale\, Qld\, Australia
CATEGORIES:HRCC,Social
ATTACH;FMTTYPE=image/jpeg:https://hrcc.org.au/wp-content/uploads/2024/12/Social-events-flyer-2.jpg
END:VEVENT
BEGIN:VEVENT
DTSTART;TZID=Australia/Brisbane:20250428T190000
DTEND;TZID=Australia/Brisbane:20250428T210000
DTSTAMP:20260421T190539
CREATED:20241226T000733Z
LAST-MODIFIED:20250103T062638Z
UID:3350-1745866800-1745874000@hrcc.org.au
SUMMARY:Members Brissie BBQ
DESCRIPTION:A social get together for all HRCC Members.
URL:https://hrcc.org.au/event/members-brissie-bbq-2/
LOCATION:VCCA Clubrooms\, 1376 Old Cleveland Rd\, Carindale\, Qld\, Australia
CATEGORIES:HRCC,Social
ATTACH;FMTTYPE=image/jpeg:https://hrcc.org.au/wp-content/uploads/2022/05/hrcc-default-featured-image.jpg
END:VEVENT
BEGIN:VEVENT
DTSTART;TZID=Australia/Brisbane:20241110T083000
DTEND;TZID=Australia/Brisbane:20241110T113000
DTSTAMP:20260421T190539
CREATED:20240405T004506Z
LAST-MODIFIED:20241023T013158Z
UID:2938-1731227400-1731238200@hrcc.org.au
SUMMARY:Inter Club Challenge Qld Social Event
DESCRIPTION:Cars and Coffee \nDetails to be confirmed closer to the date via facebook. \n 
URL:https://hrcc.org.au/event/inter-club-challenge-qld-social-event-2/
LOCATION:Qld
CATEGORIES:Social
ATTACH;FMTTYPE=image/jpeg:https://hrcc.org.au/wp-content/uploads/2024/01/Inter-Club-Challenge-logo.jpg
ORGANIZER;CN="Christine%20Murphy":MAILTO:interclubchallengeqld@gmail.com
END:VEVENT
BEGIN:VEVENT
DTSTART;TZID=Australia/Brisbane:20240414T083000
DTEND;TZID=Australia/Brisbane:20240414T110000
DTSTAMP:20260421T190539
CREATED:20240405T002228Z
LAST-MODIFIED:20241023T013220Z
UID:2928-1713083400-1713092400@hrcc.org.au
SUMMARY:Inter Club Challenge Qld Social Event
DESCRIPTION:Cars and Coffee at Repco Max Logan followed by Gokarting at Kingston Park Raceway. \n8.30am: Arrive and start parking up.\n11.00am: Pack up.\n11.15am: Meet at Kingston Park Raceway for some Go Karting fun. For all the details please check out the separate Go Karting – Kingston Park Raceway Event.\nFor more info and to RSVP go to the ICCQld facebook page
URL:https://hrcc.org.au/event/inter-club-challenge-qld-social-event/
LOCATION:Repco Max Logan City\, 60 Moss St\, Slacks Creek\, Qld\, 4127\, Australia
CATEGORIES:Social
ATTACH;FMTTYPE=image/jpeg:https://hrcc.org.au/wp-content/uploads/2024/01/Inter-Club-Challenge-logo.jpg
ORGANIZER;CN="Christine%20Murphy":MAILTO:interclubchallengeqld@gmail.com
END:VEVENT
END:VCALENDAR